BEGIN:VCALENDAR
VERSION:2.0
CALSCALE:GREGORIAN
PRODID:adamgibbons/ics
METHOD:PUBLISH
X-PUBLISHED-TTL:PT1H
BEGIN:VEVENT
UID:368@tricity.dance
SUMMARY:Bluesówka w Paszczy Lwa
DTSTAMP:20260420T083217Z
DTSTART:20260430T173000Z
DTEND:20260430T214500Z
DESCRIPTION:Hej\, stęskniliście się za Bluesówkami w legendarnej Paszczy Lw
	a?\nMamy dla Was wspaniałą wiadomość!\n\n30 kwietnia (czwartek) - odbędzie
	 się Bluesówka o którą pytało tam wielu z Was\nBędzie Blues\, będzie klima
	t. Będziemy tańczyć\, śmiać się i cieszyć się w\ndoborowym towarzystwie\n\
	nTo idealny moment\, by zacząć "majówkę" w nieco wolniejszym rytmie muzyki
	 i\nruchu.\nJeśli akurat planujecie odpoczynek w Trójmieście\, to musicie 
	tu wpaść i poczuć\ntą niepowtarzalną atmosferę!\n\nZaczniemy spokojnie - d
	la chętnych krótka\, luźna rozgrzewka i lekcja\nwprowadzająca o 19.30\nNat
	omiast po godzinie 20.00 parkiet zacznie żyć swoim rytmem a za muzykę zadb
	ają\nDJ-e\, którzy wiedzą\, jak sprawić\, byście nie chcieli schodzić z pa
	rkietu\nBawimy się do późnej nocy... Przynajmniej do północy!\n\nZamiast k
	lasycznego biletu - kup 2 piwka (lub coś innego) w barze. Prosto\, po\nsąs
	iedzku\n\nPrzyjdźcie potańczyć\, posłuchać\, pobyć razem.\nDo zobaczenia n
	a parkiecie!\n\n=====\n\n30.04.2026\nPaszcza Lwa - ul. Kwietna 39\, Gdańsk
	\nStart ~ 19.30\nWjazd - 2 piwka
URL:https://tricity.dance/event/bluesowka-w-paszczy-lwa
LOCATION:Paszcza Lwa - Ulica Kwietnia 40\, 80-330 Gdańsk
STATUS:CONFIRMED
CATEGORIES:Blues
X-ALT-DESC;FMTTYPE=text/html:<p>Hej, stęskniliście się za Bluesówkami w leg
	endarnej Paszczy Lwa?<br>Mamy dla Was wspaniałą wiadomość!</p><p>30 kwietn
	ia (czwartek) - odbędzie się Bluesówka o którą pytało tam wielu z Was <br>
	Będzie Blues, będzie klimat. Będziemy tańczyć, śmiać się i cieszyć się w d
	oborowym towarzystwie</p><p>To idealny moment, by zacząć "majówkę" w nieco
	 wolniejszym rytmie muzyki i ruchu.<br>Jeśli akurat planujecie odpoczynek 
	w Trójmieście, to musicie tu wpaść i poczuć tą niepowtarzalną atmosferę!</
	p><p>Zaczniemy spokojnie - dla chętnych krótka, luźna rozgrzewka i lekcja 
	wprowadzająca o 19.30<br>Natomiast po godzinie 20.00 parkiet zacznie żyć s
	woim rytmem a za muzykę zadbają DJ-e, którzy wiedzą, jak sprawić, byście n
	ie chcieli schodzić z parkietu <br>Bawimy się do późnej nocy... Przynajmni
	ej do północy!</p><p>Zamiast klasycznego biletu - kup 2 piwka (lub coś inn
	ego) w barze. Prosto, po sąsiedzku</p><p>Przyjdźcie potańczyć, posłuchać, 
	pobyć razem.<br>Do zobaczenia na parkiecie!</p><p>=====</p><p>30.04.2026<b
	r>Paszcza Lwa - ul. Kwietna 39, Gdańsk<br>Start ~ 19.30<br>Wjazd - 2 piwka
	</p>
END:VEVENT
BEGIN:VEVENT
UID:365@tricity.dance
SUMMARY:Swingowa Paszcza
DTSTAMP:20260420T083217Z
DTSTART:20260409T173000Z
DTEND:20260409T210000Z
DESCRIPTION:Zapraszamy na swingową potańcówkę w Paszcza Lwa!\n\nDla osób\, 
	które jeszcze nie były w tym wyjątkowym miejscu garść informacji:\n- gramy
	 muzykę swingową różnorodną do Lindy Hopa\, Balboa\, Shaga\, Boogie\, na\n
	pewno nie zabraknie szybkich nutek\,\n- warto wziąć buty na zmianę (poleca
	my trampki)\,\n- na barze jest możliwość płatności kartą\, ale gotówka mil
	e widziana.\n\nWstęp: 5zł do kapelusza na barze\n\nSerdecznie zapraszamy !
URL:https://tricity.dance/event/swingowa-paszcza-10
LOCATION:Paszcza Lwa - Ulica Kwietnia 40\, 80-330 Gdańsk
STATUS:CONFIRMED
CATEGORIES:Boogie,Gdańsk,Paszcza Lwa,Shag,Balboa,Lind hop
X-ALT-DESC;FMTTYPE=text/html:<p>Zapraszamy na swingową potańcówkę w Paszcza
	 Lwa!</p><p>Dla osób, które jeszcze nie były w tym wyjątkowym miejscu garś
	ć informacji:<br>- gramy muzykę swingową różnorodną do Lindy Hopa, Balboa,
	 Shaga, Boogie, na pewno nie zabraknie szybkich nutek,<br>- warto wziąć bu
	ty na zmianę (polecamy trampki),<br>- na barze jest możliwość płatności ka
	rtą, ale gotówka mile widziana.</p><p>Wstęp: 5zł do kapelusza na barze</p>
	<p>Serdecznie zapraszamy !</p>
END:VEVENT
BEGIN:VEVENT
UID:357@tricity.dance
SUMMARY:Swingowa Paszcza
DTSTAMP:20260420T083217Z
DTSTART:20260320T183000Z
DTEND:20260320T220000Z
DESCRIPTION:Zapraszamy na swingową potańcówkę w Paszcza Lwa!\n\nDla osób\, 
	które jeszcze nie były w tym wyjątkowym miejscu garść informacji:\n- gramy
	 muzykę swingową różnorodną do Lindy Hopa\, Balboa\, Shaga\, Boogie\, na\n
	pewno nie zabraknie szybkich nutek\,\n- warto wziąć buty na zmianę (poleca
	my trampki)\,\n- na barze jest możliwość płatności kartą\, ale gotówka mil
	e widziana.\n\nWstęp: 5zł do kapelusza na barze\n\nSerdecznie zapraszamy !
URL:https://tricity.dance/event/swingowa-paszcza-9
LOCATION:Paszcza Lwa - Ulica Kwietnia 40\, 80-330 Gdańsk
STATUS:CONFIRMED
CATEGORIES:Balboa,Boogie,Lind hop,Paszcza Lwa,Shag,Gdańsk
X-ALT-DESC;FMTTYPE=text/html:<p>Zapraszamy na swingową potańcówkę w Paszcza
	 Lwa!</p><p>Dla osób, które jeszcze nie były w tym wyjątkowym miejscu garś
	ć informacji:<br>- gramy muzykę swingową różnorodną do Lindy Hopa, Balboa,
	 Shaga, Boogie, na pewno nie zabraknie szybkich nutek,<br>- warto wziąć bu
	ty na zmianę (polecamy trampki),<br>- na barze jest możliwość płatności ka
	rtą, ale gotówka mile widziana.</p><p>Wstęp: 5zł do kapelusza na barze</p>
	<p>Serdecznie zapraszamy !</p>
END:VEVENT
BEGIN:VEVENT
UID:340@tricity.dance
SUMMARY:Swingowa Paszcza
DTSTAMP:20260420T083217Z
DTSTART:20260115T183000Z
DTEND:20260115T220000Z
DESCRIPTION:link do wydarzenia:\nhttps://www.facebook.com/events/s/swingowa
	-paszcza/1576218933383869/\n[https://www.facebook.com/events/s/swingowa-pa
	szcza/1576218933383869/]\n------------------------\n\nZapraszamy na swingo
	wą potańcówkę w Paszcza Lwa!\n\nDla osób\, które jeszcze nie były w tym wy
	jątkowym miejscu garść informacji:\n- gramy muzykę swingową różnorodną do 
	Lindy Hopa\, Balboa\, Shaga\, Boogie\, na\npewno nie zabraknie szybkich nu
	tek\,\n- warto wziąć buty na zmianę (polecamy trampki)\,\n- na barze jest 
	możliwość płatności kartą\, ale gotówka mile widziana.\n\nWstęp: 5zł do ka
	pelusza na barze\n\nSerdecznie zapraszamy !
URL:https://tricity.dance/event/swingowa-paszcza-8
LOCATION:Paszcza Lwa - Ulica Kwietnia 40\, 80-330 Gdańsk
STATUS:CONFIRMED
CATEGORIES:collegiate shag,Oliwa,Swing
X-ALT-DESC;FMTTYPE=text/html:<p>link do wydarzenia: <a target="_blank" href
	="https://www.facebook.com/events/s/swingowa-paszcza/1576218933383869/">ht
	tps://www.facebook.com/events/s/swingowa-paszcza/1576218933383869/</a><br>
	------------------------</p><p>Zapraszamy na swingową potańcówkę w Paszcza
	 Lwa!</p><p>Dla osób, które jeszcze nie były w tym wyjątkowym miejscu garś
	ć informacji:<br>- gramy muzykę swingową różnorodną do Lindy Hopa, Balboa,
	 Shaga, Boogie, na pewno nie zabraknie szybkich nutek,<br>- warto wziąć bu
	ty na zmianę (polecamy trampki),<br>- na barze jest możliwość płatności ka
	rtą, ale gotówka mile widziana.</p><p>Wstęp: 5zł do kapelusza na barze</p>
	<p>Serdecznie zapraszamy !</p>
END:VEVENT
BEGIN:VEVENT
UID:326@tricity.dance
SUMMARY:Swingowa Paszcza
DTSTAMP:20260420T083217Z
DTSTART:20251016T173000Z
DTEND:20251016T210000Z
DESCRIPTION:Zapraszamy na swingową potańcówkę w Paszcza Lwa!\n\nDla osób\, 
	które jeszcze nie były w tym wyjątkowym miejscu garść informacji:\n- gramy
	 muzykę swingową różnorodną do Lindy Hopa\, Balboa\, Shaga\, Boogie\, na\n
	pewno nie zabraknie szybkich nutek\,\n- warto wziąć buty na zmianę (poleca
	my trampki)\,\n- na barze jest możliwość płatności kartą\, ale gotówka mil
	e widziana.\n\nWstęp: 5zł do kapelusza na barze
URL:https://tricity.dance/event/swingowa-paszcza-7
LOCATION:Paszcza Lwa - Ulica Kwietnia 40\, 80-330 Gdańsk
STATUS:CONFIRMED
CATEGORIES:Lindy hop,Swing,Balboa,collegiate shag,Oliwa
X-ALT-DESC;FMTTYPE=text/html:<p>Zapraszamy na swingową potańcówkę w Paszcza
	 Lwa!</p><p>Dla osób, które jeszcze nie były w tym wyjątkowym miejscu garś
	ć informacji:<br>- gramy muzykę swingową różnorodną do Lindy Hopa, Balboa,
	 Shaga, Boogie, na pewno nie zabraknie szybkich nutek,<br>- warto wziąć bu
	ty na zmianę (polecamy trampki),<br>- na barze jest możliwość płatności ka
	rtą, ale gotówka mile widziana.</p><p>Wstęp: 5zł do kapelusza na barze</p>
END:VEVENT
BEGIN:VEVENT
UID:314@tricity.dance
SUMMARY:Swingowa Paszcza
DTSTAMP:20260420T083217Z
DTSTART:20250918T173000Z
DTEND:20250918T210000Z
DESCRIPTION:Zapraszamy na swingową potańcówkę w Paszcza Lwa!\n\nDla osób\, 
	które jeszcze nie były w tym wyjątkowym miejscu garść informacji:\n- gramy
	 muzykę swingową różnorodną do Lindy Hopa\, Balboa\, Shaga\, Boogie\, na\n
	pewno nie zabraknie szybkich nutek\,\n- warto wziąć buty na zmianę (poleca
	my trampki)\,\n- na barze jest możliwość płatności kartą\, ale gotówka mil
	e widziana.\n\nWstęp: 5zł do kapelusza na barze\n\nSerdecznie zapraszamy !
URL:https://tricity.dance/event/swingowa-paszcza-6
LOCATION:Paszcza Lwa - Ulica Kwietnia 40\, 80-330 Gdańsk
STATUS:CONFIRMED
CATEGORIES:Gdańsk,Oliwa
X-ALT-DESC;FMTTYPE=text/html:<p>Zapraszamy na swingową potańcówkę w Paszcza
	 Lwa!</p><p>Dla osób, które jeszcze nie były w tym wyjątkowym miejscu garś
	ć informacji:<br>- gramy muzykę swingową różnorodną do Lindy Hopa, Balboa,
	 Shaga, Boogie, na pewno nie zabraknie szybkich nutek,<br>- warto wziąć bu
	ty na zmianę (polecamy trampki),<br>- na barze jest możliwość płatności ka
	rtą, ale gotówka mile widziana.</p><p>Wstęp: 5zł do kapelusza na barze</p>
	<p>Serdecznie zapraszamy !</p>
END:VEVENT
BEGIN:VEVENT
UID:271@tricity.dance
SUMMARY:Bluesowa Paszcza
DTSTAMP:20260420T083217Z
DTSTART:20250717T170000Z
DTEND:20250717T210000Z
DESCRIPTION:Serdecznie zapraszamy do Paszczy\, ale tym razem na bluesówkę! 
	Będzie wolno\,\nbędzie też nieco szybciej... będzie różny przegląd przez m
	uzykę bluesową od tych\nstarszych do bardziej szalonych kawałków.\n\nWpada
	jcie do Paszczy Lwa na 19.00 potańczyć\, poplotkować\, i wrzucić nieco do\
	nskarbca baru.\nNie znacie nas albo nikogo nie kojarzycie\, a chcielibyści
	e potańczyć bluesa w\njego rozmaitych odsłonach? Nie gryziemy\n\nWystarczy
	 do nas podejść i zapytać\, a odpowiemy na wszelkie pytania.\n\nWstęp 10 p
	ln do wykorzystania na barze\n\nTo co? Do zobaczyska!
URL:https://tricity.dance/event/bluesowa-paszcza
LOCATION:Paszcza Lwa - Ulica Kwietnia 40\, 80-330 Gdańsk
STATUS:CONFIRMED
CATEGORIES:Blues
X-ALT-DESC;FMTTYPE=text/html:<p>Serdecznie zapraszamy do Paszczy, ale tym r
	azem na bluesówkę! Będzie wolno, będzie też nieco szybciej... będzie różny
	 przegląd przez muzykę bluesową od tych starszych do bardziej szalonych ka
	wałków.</p><p>Wpadajcie do Paszczy Lwa na 19.00 potańczyć, poplotkować, i 
	wrzucić nieco do skarbca baru.<br>Nie znacie nas albo nikogo nie kojarzyci
	e, a chcielibyście potańczyć bluesa w jego rozmaitych odsłonach? Nie gryzi
	emy</p><p>Wystarczy do nas podejść i zapytać, a odpowiemy na wszelkie pyta
	nia.</p><p>Wstęp 10 pln do wykorzystania na barze</p><p>To co? Do zobaczys
	ka!</p>
END:VEVENT
BEGIN:VEVENT
UID:269@tricity.dance
SUMMARY:Swingowa Paszcza
DTSTAMP:20260420T083217Z
DTSTART:20250710T173000Z
DTEND:20250710T210000Z
DESCRIPTION:Zapraszamy na swingową potańcówkę w Paszcza Lwa!\n\nDla osób\, 
	które jeszcze nie były w tym wyjątkowym miejscu garść informacji:\n- gramy
	 muzykę swingową różnorodną do Lindy Hopa\, Balboa\, Shaga\, Boogie\, na\n
	pewno nie zabraknie szybkich nutek\,\n- warto wziąć buty na zmianę (poleca
	my trampki)\,\n- na barze jest możliwość płatności kartą\, ale gotówka mil
	e widziana.\n\nWstęp: 5zł do kapelusza na barze\n\nSerdecznie zapraszamy !
	\n\nhttps://www.facebook.com/events/s/swingowa-paszcza/858585683112431/\n[
	https://www.facebook.com/events/s/swingowa-paszcza/858585683112431/]
URL:https://tricity.dance/event/swingowa-paszcza-4
LOCATION:Paszcza Lwa - Ulica Kwietnia 40\, 80-330 Gdańsk
STATUS:CONFIRMED
CATEGORIES:Balboa,Gdańsk,Lindy hop,Shag,Oliwa
X-ALT-DESC;FMTTYPE=text/html:<p>Zapraszamy na swingową potańcówkę w Paszcza
	 Lwa!</p><p>Dla osób, które jeszcze nie były w tym wyjątkowym miejscu garś
	ć informacji:<br>- gramy muzykę swingową różnorodną do Lindy Hopa, Balboa,
	 Shaga, Boogie, na pewno nie zabraknie szybkich nutek,<br>- warto wziąć bu
	ty na zmianę (polecamy trampki),<br>- na barze jest możliwość płatności ka
	rtą, ale gotówka mile widziana.</p><p>Wstęp: 5zł do kapelusza na barze</p>
	<p>Serdecznie zapraszamy !</p><p><a href="https://www.facebook.com/events/
	s/swingowa-paszcza/858585683112431/" target="_blank">https://www.facebook.
	com/events/s/swingowa-paszcza/858585683112431/</a></p>
END:VEVENT
BEGIN:VEVENT
UID:255@tricity.dance
SUMMARY:SWINGOWA PASZCZA
DTSTAMP:20260420T083217Z
DTSTART:20250626T173000Z
DTEND:20250626T210000Z
DESCRIPTION:Zapraszamy na swingową potańcówkę w Paszcza Lwa!\n\nDla osób\, 
	które jeszcze nie były w tym wyjątkowym miejscu garść informacji:\n- gramy
	 muzykę swingową różnorodną do Lindy Hopa\, Balboa\, Shaga\, Boogie\, na\n
	pewno nie zabraknie szybkich nutek\,\n- warto wziąć buty na zmianę (poleca
	my trampki)\,\n- na barze jest możliwość płatności kartą\, ale gotówka mil
	e widziana.\n\nWstęp: 5zł do kapelusza na barze\n\nSerdecznie zapraszamy!
URL:https://tricity.dance/event/swingowa-paszcza-3
LOCATION:Paszcza Lwa - Ulica Kwietnia 40\, 80-330 Gdańsk
STATUS:CONFIRMED
CATEGORIES:Swing,Oliwa,Gdańsk
X-ALT-DESC;FMTTYPE=text/html:<p>Zapraszamy na swingową potańcówkę w Paszcza
	 Lwa!</p><p>Dla osób, które jeszcze nie były w tym wyjątkowym miejscu garś
	ć informacji:<br>- gramy muzykę swingową różnorodną do Lindy Hopa, Balboa,
	 Shaga, Boogie, na pewno nie zabraknie szybkich nutek,<br>- warto wziąć bu
	ty na zmianę (polecamy trampki),<br>- na barze jest możliwość płatności ka
	rtą, ale gotówka mile widziana.</p><p>Wstęp: 5zł do kapelusza na barze</p>
	<p>Serdecznie zapraszamy!</p>
END:VEVENT
BEGIN:VEVENT
UID:248@tricity.dance
SUMMARY:Swingowa Paszcza
DTSTAMP:20260420T083217Z
DTSTART:20250515T173000Z
DTEND:20250515T210000Z
DESCRIPTION:Zapraszamy na swingową potańcówkę w Paszcza Lwa!\n\nDla osób\, 
	które jeszcze nie były w tym wyjątkowym miejscu garść informacji:\n- gramy
	 muzykę swingową różnorodną do Lindy Hopa\, Balboa\, Shaga\, Boogie\, na\n
	pewno nie zabraknie szybkich nutek\,\n- warto wziąć buty na zmianę (poleca
	my trampki)\,\n- na barze jest możliwość płatności kartą\, ale gotówka mil
	e widziana.\n\nWstęp: 5zł do kapelusza na barze\n\nSerdecznie zapraszamy !
	\n\nhttps://www.facebook.com/events/s/swingowa-paszcza/858585683112431/\n[
	https://www.facebook.com/events/s/swingowa-paszcza/858585683112431/]
URL:https://tricity.dance/event/swingowa-paszcza-2
LOCATION:Paszcza Lwa - Ulica Kwietnia 40\, 80-330 Gdańsk
STATUS:CONFIRMED
CATEGORIES:Lindy hop,Shag,Oliwa,Balboa,Gdańsk
X-ALT-DESC;FMTTYPE=text/html:<p>Zapraszamy na swingową potańcówkę w Paszcza
	 Lwa!</p><p>Dla osób, które jeszcze nie były w tym wyjątkowym miejscu garś
	ć informacji:<br>- gramy muzykę swingową różnorodną do Lindy Hopa, Balboa,
	 Shaga, Boogie, na pewno nie zabraknie szybkich nutek,<br>- warto wziąć bu
	ty na zmianę (polecamy trampki),<br>- na barze jest możliwość płatności ka
	rtą, ale gotówka mile widziana.</p><p>Wstęp: 5zł do kapelusza na barze</p>
	<p>Serdecznie zapraszamy !</p><p><a target="_blank" href="https://www.face
	book.com/events/s/swingowa-paszcza/858585683112431/">https://www.facebook.
	com/events/s/swingowa-paszcza/858585683112431/</a></p>
END:VEVENT
BEGIN:VEVENT
UID:245@tricity.dance
SUMMARY:Swingowa Paszcza
DTSTAMP:20260420T083217Z
DTSTART:20250410T173000Z
DTEND:20250410T210000Z
DESCRIPTION:Zapraszamy na swingową potańcówkę w Paszcza Lwa!\n\nWstęp: 5zł 
	do kapelusza na barze\n\nDla osób\, które jeszcze nie były w tym wyjątkowy
	m miejscu garść informacji:\n- gramy muzykę swingową różnorodną do Lindy H
	opa\, Balboa\, Shaga\, Boogie\, na\npewno nie zabraknie szybkich nutek\,\n
	- warto wziąć buty na zmianę (polecamy trampki)\,\n- na barze jest możliwo
	ść płatności kartą\, ale gotówka mile widziana.\n\nSerdecznie zapraszamy
URL:https://tricity.dance/event/swingowa-paszcza-1
LOCATION:Paszcza Lwa - Ulica Kwietnia 40\, 80-330 Gdańsk
STATUS:CONFIRMED
CATEGORIES:Gdańsk
X-ALT-DESC;FMTTYPE=text/html:<p>Zapraszamy na swingową potańcówkę w Paszcza
	 Lwa!</p><p>Wstęp: 5zł do kapelusza na barze</p><p>Dla osób, które jeszcze
	 nie były w tym wyjątkowym miejscu garść informacji:<br>- gramy muzykę swi
	ngową różnorodną do Lindy Hopa, Balboa, Shaga, Boogie, na pewno nie zabrak
	nie szybkich nutek,<br>- warto wziąć buty na zmianę (polecamy trampki),<br
	>- na barze jest możliwość płatności kartą, ale gotówka mile widziana.</p>
	<p>Serdecznie zapraszamy</p>
END:VEVENT
BEGIN:VEVENT
UID:237@tricity.dance
SUMMARY:SWINGOWA PASZCZA
DTSTAMP:20260420T083217Z
DTSTART:20250313T183000Z
DTEND:20250313T220000Z
DESCRIPTION:Zapraszamy na swingową potańcówkę w Paszcza Lwa!\n\nDla osób\, 
	które jeszcze nie były w tym wyjątkowym miejscu garść informacji:\n- gramy
	 muzykę swingową różnorodną do Lindy Hopa\, Balboa\, Shaga\, Boogie\, na\n
	pewno nie zabraknie szybkich nutek\,\n- warto wziąć buty na zmianę (poleca
	my trampki)\,\n- na barze jest możliwość płatności kartą\, ale gotówka mil
	e widziana.\n\nWstęp: 5zł do kapelusza na barze\n\nSerdecznie zapraszamy!
URL:https://tricity.dance/event/swingowa-paszcza
LOCATION:Paszcza Lwa - Ulica Kwietnia 40\, 80-330 Gdańsk
STATUS:CONFIRMED
CATEGORIES:Swing,Oliwa,Gdańsk
X-ALT-DESC;FMTTYPE=text/html:<p>Zapraszamy na swingową potańcówkę w Paszcza
	 Lwa!</p><p>Dla osób, które jeszcze nie były w tym wyjątkowym miejscu garś
	ć informacji:<br>- gramy muzykę swingową różnorodną do Lindy Hopa, Balboa,
	 Shaga, Boogie, na pewno nie zabraknie szybkich nutek,<br>- warto wziąć bu
	ty na zmianę (polecamy trampki),<br>- na barze jest możliwość płatności ka
	rtą, ale gotówka mile widziana.</p><p>Wstęp: 5zł do kapelusza na barze</p>
	<p>Serdecznie zapraszamy!</p>
END:VEVENT
BEGIN:VEVENT
UID:220@tricity.dance
SUMMARY:SWINGOWA PASZCZA reaktywacja
DTSTAMP:20260420T083217Z
DTSTART:20250213T183000Z
DTEND:20250213T220000Z
URL:https://tricity.dance/event/swingowa-paszcza-reaktywacja
LOCATION:Paszcza Lwa - Ulica Kwietnia 40\, 80-330 Gdańsk
STATUS:CONFIRMED
CATEGORIES:
END:VEVENT
END:VCALENDAR
